BEGIN:VCALENDAR
VERSION:2.0
PRODID:-//Plone.org//NONSGML plone.app.event//EN
X-WR-TIMEZONE:Europe/Vienna
BEGIN:VEVENT
SUMMARY:EXKURSION
DTSTART;TZID=Europe/Vienna;VALUE=DATE-TIME:20260530T090000
DTEND;TZID=Europe/Vienna;VALUE=DATE-TIME:20260530T190000
DTSTAMP;VALUE=DATE-TIME:20260424T063239Z
UID:30c2cde8748047bd909df1171bc313f8@aaf-live-raw.web.kup.tirol
CREATED;VALUE=DATE-TIME:20260309T111047Z
DESCRIPTION:1-Tägige Busexkursion durch das Burgenland
LAST-MODIFIED;VALUE=DATE-TIME:20260322T215509Z
URL:https://afo.at/arb/veranstaltungen/exkursion
END:VEVENT
BEGIN:VTIMEZONE
TZID:Europe/Vienna
X-LIC-LOCATION:Europe/Vienna
BEGIN:DAYLIGHT
DTSTART;VALUE=DATE-TIME:20260329T030000
TZNAME:CEST
TZOFFSETFROM:+0100
TZOFFSETTO:+0200
END:DAYLIGHT
END:VTIMEZONE
END:VCALENDAR
