BEGIN:VCALENDAR
VERSION:2.0
PRODID:-//Plone.org//NONSGML plone.app.event//EN
X-WR-TIMEZONE:Europe/Vienna
BEGIN:VEVENT
SUMMARY:Linz ... in Arbeit
DTSTART;VALUE=DATE:20260409
DTEND;VALUE=DATE:20260627
DTSTAMP;VALUE=DATE-TIME:20260422T223620Z
UID:e03cd61032564cb6bf43aa652dccbd46@aaf-live-raw.web.kup.tirol
CREATED;VALUE=DATE-TIME:20260310T100929Z
DESCRIPTION:Die Ausstellung zeigt wie ein „arbeitender“ Stadtteil im W
 andel neue Formen des Zusammenlebens und -arbeitens hervorbringt. Sie prä
 sentiert Werkzeuge aus Stadtplanung und Architektur und lädt dazu ein\, d
 en Wandel der Stadt im Dialog mitzudenken – denn Städte sind nie fertig
 \, sie bleiben in Arbeit.
GEO:48.30668892812408;14.291533827781677
LAST-MODIFIED;VALUE=DATE-TIME:20260330T100416Z
LOCATION;ALTREP="https://afo.at/lib/adressbuch/afo-architekturforum-oberoe
 sterreich":afo architekturforum oberösterreich\, Herbert-Bayer-Platz 1\, 
 4020 Linz\, Österreich
URL:https://afo.at/ausstellungen/linz-in-arbeit
END:VEVENT
END:VCALENDAR
