BEGIN:VCALENDAR
VERSION:2.0
PRODID:-//Plone.org//NONSGML plone.app.event//EN
X-WR-TIMEZONE:Europe/Vienna
BEGIN:VEVENT
SUMMARY:Auf die Plätze! | Diskursraum Stadt
DTSTART;TZID=Europe/Vienna;VALUE=DATE-TIME:20260520T180000
DTSTAMP;VALUE=DATE-TIME:20260424T180148Z
UID:e6347f895db7435d8e0a2f2bd10ddb4d@aaf-live-raw.web.kup.tirol
CATEGORIES:AT26
CREATED;VALUE=DATE-TIME:20260324T121328Z
DESCRIPTION:ohnetitel\, ein Netzwerk für Theater & Kunstprojekte\, erkund
 et den öffentlichen Raum nach geltenden Kriterien\, die die Bespielung de
 r Stadt möglich bis unmöglich machen.
GEO:47.805105959017375;13.050456941127777
LAST-MODIFIED;VALUE=DATE-TIME:20260423T090435Z
LOCATION;ALTREP="https://afo.at/ia/lib/adressbuch/schallmooser-hauptstrass
 e-5":Schallmooser Hauptstraße 5\, 5020 Salzburg\, Österreich
URL:https://afo.at/ia/kalender/auf-die-plaetze
END:VEVENT
BEGIN:VTIMEZONE
TZID:Europe/Vienna
X-LIC-LOCATION:Europe/Vienna
BEGIN:DAYLIGHT
DTSTART;VALUE=DATE-TIME:20260329T030000
TZNAME:CEST
TZOFFSETFROM:+0100
TZOFFSETTO:+0200
END:DAYLIGHT
END:VTIMEZONE
END:VCALENDAR
