BEGIN:VCALENDAR
VERSION:2.0
PRODID:-//Plone.org//NONSGML plone.app.event//EN
X-WR-TIMEZONE:Europe/Vienna
BEGIN:VEVENT
SUMMARY:Samuel Blumer: Die Logik der Reduktion
DTSTART;TZID=Europe/Vienna;VALUE=DATE-TIME:20260513T183000
DTSTAMP;VALUE=DATE-TIME:20260423T030624Z
UID:16272b07e2334f629aa9c91d464f0f0c@aaf-live-raw.web.kup.tirol
CATEGORIES:Vortrag,Ausstellung
CREATED;VALUE=DATE-TIME:20260325T124942Z
DESCRIPTION:Am Beispiel der Brücke „Vier Armen“ in Brüssel wird die 
 Leistungsfähigkeit multifunktionaler GLVL-Paneele eindrucksvoll veranscha
 ulicht. Dabei wird eine integrale Boxstruktur vorgestellt\, die Tragwerk u
 nd Wetterschutz in einer effizienten Lösung kombiniert.
GEO:47.79496602651422;13.030600547790527
LAST-MODIFIED;VALUE=DATE-TIME:20260409T115015Z
LOCATION;ALTREP="https://afo.at/ia/lib/adressbuch/architekturhaus-salzburg
 ":Architekturhaus Salzburg\, Sinnhubstraße 3\, 5020 Salzburg\, Österreic
 h
URL:https://afo.at/ia/kalender/die-logik-der-reduktion-detailentwicklung-f
 uer-urbane-holzhochbauten-und-infrastruktur
END:VEVENT
BEGIN:VTIMEZONE
TZID:Europe/Vienna
X-LIC-LOCATION:Europe/Vienna
BEGIN:DAYLIGHT
DTSTART;VALUE=DATE-TIME:20260329T030000
TZNAME:CEST
TZOFFSETFROM:+0100
TZOFFSETTO:+0200
END:DAYLIGHT
END:VTIMEZONE
END:VCALENDAR
