BEGIN:VCALENDAR
VERSION:2.0
PRODID:-//Plone.org//NONSGML plone.app.event//EN
X-WR-TIMEZONE:Europe/Vienna
BEGIN:VEVENT
SUMMARY:Historische Infrastrukturen der Salzburger Altstadt
DTSTART;TZID=Europe/Vienna:20260528T160000
DTSTAMP:20260422T053749Z
UID:9d8b21a1d22e455b9d49b0842fe249bb@afo.at
CATEGORIES:AT26
CREATED:20260318T104237Z
DESCRIPTION:Der Spaziergang führt zu kaum bekannten historischen Infrastr
 ukturanlagen in der Salzburger Altstadt. Auf dem Rundgang werden sie erfah
 ren wie im Mittelalter die Stadt mit Wasser versorgt wurde und das Barock 
 dieses Element zur Inszenierung öffentlicher Plätze einsetzt.
GEO:47.79940583772212;13.045200343976017
LAST-MODIFIED:20260414T072635Z
LOCATION;ALTREP="https://afo.at/ia/lib/adressbuch/alter-markt-florianibrun
 nen":Florianibrunnen\, Alter Markt\, 5020 Salzburg\, Austria
URL:https://afo.at/ia/kalender/historische-infrastrukturen-der-salzburger-
 altstadt
END:VEVENT
BEGIN:VTIMEZONE
TZID:Europe/Vienna
X-LIC-LOCATION:Europe/Vienna
BEGIN:DAYLIGHT
DTSTART:20260329T030000
TZNAME:CEST
TZOFFSETFROM:+0100
TZOFFSETTO:+0200
END:DAYLIGHT
END:VTIMEZONE
END:VCALENDAR
