BEGIN:VCALENDAR
VERSION:2.0
PRODID:-//Plone.org//NONSGML plone.app.event//EN
X-WR-TIMEZONE:Europe/Vienna
BEGIN:VEVENT
SUMMARY:Ab ins Archiv. Architektur sammeln.
DTSTART;TZID=Europe/Vienna;VALUE=DATE-TIME:20250123T160000
DTSTAMP;VALUE=DATE-TIME:20260425T111930Z
UID:41e829cba4a14a4d9e877d015b356854@aaf-live-raw.web.kup.tirol
CREATED;VALUE=DATE-TIME:20241216T090536Z
DESCRIPTION:Die Mini-Tagung „Ab ins Archiv“ des Schwerpunkts Baukultur
  an der KU Linz stellt verschiedene Architekturarchive vor und beleuchtet 
 Strategien des Sammelns und Erschließens von Bau- und Planunterlagen als 
 zentrale Quellen zur Erforschung regionaler Baukultur.
LAST-MODIFIED;VALUE=DATE-TIME:20250110T120121Z
LOCATION:Katholische Privatuniversität Linz\, Hörsaal 1\, Bethlehemstr. 
 20
URL:https://afo.at/programm/ab-ins-archiv-architektur-sammeln
END:VEVENT
BEGIN:VTIMEZONE
TZID:Europe/Vienna
X-LIC-LOCATION:Europe/Vienna
BEGIN:STANDARD
DTSTART;VALUE=DATE-TIME:20241027T020000
TZNAME:CET
TZOFFSETFROM:+0200
TZOFFSETTO:+0100
END:STANDARD
END:VTIMEZONE
END:VCALENDAR
