BEGIN:VCALENDAR
VERSION:2.0
PRODID:-//Plone.org//NONSGML plone.app.event//EN
X-WR-TIMEZONE:Europe/Vienna
BEGIN:VEVENT
SUMMARY:Abschluss der Architekturtage
DTSTART;TZID=Europe/Vienna:20260530T150000
DTSTAMP:20260422T004208Z
UID:19af1ef551db436dab0586dc636c6529@afo.at
CATEGORIES:AT26
CREATED:20260325T095336Z
DESCRIPTION:Ausklang der Architekturtage mit Programm im afo.
GEO:48.30668892812408;14.291533827781677
LAST-MODIFIED:20260326T132027Z
LOCATION;ALTREP="https://afo.at/lib/adressbuch/afo-architekturforum-oberoe
 sterreich":afo architekturforum oberösterreich\, Herbert-Bayer-Platz 1\, 
 4020 Linz\, Austria
URL:https://afo.at/programm/architekturtage-1/at26/abschluss-der-architekt
 urtage
END:VEVENT
BEGIN:VTIMEZONE
TZID:Europe/Vienna
X-LIC-LOCATION:Europe/Vienna
BEGIN:DAYLIGHT
DTSTART:20260329T030000
TZNAME:CEST
TZOFFSETFROM:+0100
TZOFFSETTO:+0200
END:DAYLIGHT
END:VTIMEZONE
END:VCALENDAR
