BEGIN:VCALENDAR
VERSION:2.0
PRODID:-//Plone.org//NONSGML plone.app.event//EN
X-WR-TIMEZONE:Europe/Vienna
BEGIN:VEVENT
SUMMARY:Vortrag Juri Troy
DTSTART;TZID=Europe/Vienna:20260529T190000
DTSTAMP:20260419T154156Z
UID:ef52d5eecc5e4cdcbd2c2522815bcf2b@afo.at
CATEGORIES:AT26
CREATED:20260226T153146Z
DESCRIPTION:Der Vorarlberger Architekt mit Bürositz in Wien stellt eines 
 seiner neusten und inzwischen vielfach ausgezeichneten Projekte vor: die E
 rweiterung der Firmenzentrale der Windkraft Simonsfeld. Ein Werkvortrag mi
 t anschließendem Ausklang  im Durchaus-Architekturbüro Arkade\, Marktpla
 tz 15
GEO:48.57522527841525;14.040725015262698
LAST-MODIFIED:20260310T093843Z
LOCATION;ALTREP="https://afo.at/lib/adressbuch/adlerkino":Adlerkino\, Mark
 tplatz 11\, 4170 Haslach\, Austria
URL:https://afo.at/programm/architekturtage-1/at26/architekturfruehling-ha
 slach/juri-troy
END:VEVENT
BEGIN:VTIMEZONE
TZID:Europe/Vienna
X-LIC-LOCATION:Europe/Vienna
BEGIN:DAYLIGHT
DTSTART:20260329T030000
TZNAME:CEST
TZOFFSETFROM:+0100
TZOFFSETTO:+0200
END:DAYLIGHT
END:VTIMEZONE
END:VCALENDAR
