BEGIN:VCALENDAR
VERSION:2.0
PRODID:-//Plone.org//NONSGML plone.app.event//EN
X-WR-TIMEZONE:Europe/Vienna
BEGIN:VEVENT
SUMMARY:Zwei Besichtigungen – Windpark Sternwald und Kleinkraftwerke in 
 Haslach
DTSTART;TZID=Europe/Vienna:20260530T090000
DTEND;TZID=Europe/Vienna:20260530T100000
DTSTAMP:20260421T023454Z
UID:cb34f53874214a9e9ef6ca62e57e461e@afo.at
CATEGORIES:AT26
CREATED:20260226T154253Z
DESCRIPTION:In zwei geführten Spaziergängen führt der Architekturfrühl
 ing Haslach zu zwei zeitlich wie technologisch sehr unterschiedlichen Ener
 gieinfrastrukturen in der näheren Umgebung.
GEO:48.575219044623495;14.042462254577325
LAST-MODIFIED:20260310T094033Z
LOCATION;ALTREP="https://afo.at/lib/adressbuch/marktplatz":Marktplatz Hasl
 ach an der Mühl\, Marktplatz 1\, 4170 Haslach an der Mühl\, Austria
URL:https://afo.at/programm/architekturtage-1/at26/architekturfruehling-ha
 slach/kraftwerke
END:VEVENT
BEGIN:VTIMEZONE
TZID:Europe/Vienna
X-LIC-LOCATION:Europe/Vienna
BEGIN:DAYLIGHT
DTSTART:20260329T030000
TZNAME:CEST
TZOFFSETFROM:+0100
TZOFFSETTO:+0200
END:DAYLIGHT
END:VTIMEZONE
END:VCALENDAR
