BEGIN:VCALENDAR
VERSION:2.0
PRODID:-//Plone.org//NONSGML plone.app.event//EN
X-WR-TIMEZONE:Europe/Vienna
BEGIN:VEVENT
SUMMARY:„Reimagining rural downtowns – Rohrbach-Berg“
DTSTART;VALUE=DATE:20260525
DTEND;VALUE=DATE:20260604
DTSTAMP;VALUE=DATE-TIME:20260423T072052Z
UID:9420bf3c04c64df7b53071aaab329bf3@aaf-live-raw.web.kup.tirol
CATEGORIES:AT26
CREATED;VALUE=DATE-TIME:20260226T144855Z
DESCRIPTION:Das Studienprojekt der TU Wien „Reimagining rural downtowns"
  beschäftigt sich praxisnah mit den Planungsherausforderungen der Gemeind
 e Rohrbach-Berg. Eröffnung: Freitag\, 29. Mai\, 17 Uhr
GEO:48.57542273414255;14.040059254577315
LAST-MODIFIED;VALUE=DATE-TIME:20260310T093903Z
LOCATION;ALTREP="https://afo.at/lib/adressbuch/galerie-im-g-woelb":Galerie
  im G`wölb\, Marktplatz 15\, 4170 Haslach\, Österreich
URL:https://afo.at/programm/architekturtage-1/at26/architekturfruehling-ha
 slach/reimagining
END:VEVENT
END:VCALENDAR
