BEGIN:VCALENDAR
VERSION:2.0
PRODID:-//Plone.org//NONSGML plone.app.event//EN
X-WR-TIMEZONE:Europe/Vienna
BEGIN:VEVENT
SUMMARY:Open Projects
DTSTART;TZID=Europe/Vienna;VALUE=DATE-TIME:20260528T130000
DTEND;TZID=Europe/Vienna;VALUE=DATE-TIME:20260528T210000
DTSTAMP;VALUE=DATE-TIME:20260424T074726Z
UID:a0591b0e0fa34cd883ce3a5f7b3c8d15@aaf-live-raw.web.kup.tirol
CATEGORIES:AT26
CREATED;VALUE=DATE-TIME:20260423T123226Z
DESCRIPTION:Auf einer Tour rund um Wels und ins Innviertel besichtigen wir
  vier höchst unterschiedliche Infrastrukturprojekte: eine Bogenbrücke de
 s Ausbaus der Westbahnstrecke\, ein neues Logistik-Zentrum\, eine Wasserve
 rsorgungsanlage und ein Holzparkhaus. Die verantwortlichen Ingenieurkonsul
 ent:innen und Architekt:innen zeigen uns gemeinsam mit Nutzer:innen und Au
 ftraggeber:innen die Baustellen\, bzw. fertiggestellten Projekte und geben
  damit einen Einblick in die technische Infrastrukturplanung und -ausführ
 ung.
GEO:48.30130766170855;14.29417525706026
LAST-MODIFIED;VALUE=DATE-TIME:20260423T131644Z
LOCATION;ALTREP="https://afo.at/lib/adressbuch/wko":WKO\, Hessenplatz 3\, 
 4020 Linz\, Österreich
URL:https://afo.at/programm/architekturtage-1/at26/open-projects
END:VEVENT
BEGIN:VTIMEZONE
TZID:Europe/Vienna
X-LIC-LOCATION:Europe/Vienna
BEGIN:DAYLIGHT
DTSTART;VALUE=DATE-TIME:20260329T030000
TZNAME:CEST
TZOFFSETFROM:+0100
TZOFFSETTO:+0200
END:DAYLIGHT
END:VTIMEZONE
END:VCALENDAR
