BEGIN:VCALENDAR
VERSION:2.0
PRODID:-//Plone.org//NONSGML plone.app.event//EN
X-WR-TIMEZONE:Europe/Vienna
BEGIN:VEVENT
SUMMARY:Open Studio - FH OÖ Campus Wels
DTSTART;TZID=Europe/Vienna;VALUE=DATE-TIME:20260528T100000
DTEND;TZID=Europe/Vienna;VALUE=DATE-TIME:20260528T180000
DTSTAMP;VALUE=DATE-TIME:20260424T074412Z
UID:ec32b4b9387943e0bf7754feaa993670@aaf-live-raw.web.kup.tirol
CATEGORIES:AT26
CREATED;VALUE=DATE-TIME:20260312T111830Z
DESCRIPTION:Die Veranstaltung richtet sich an alle\, die sich für ein Arc
 hitektur- oder Bauingenieurstudium interessieren – und ebenso an alle\, 
 die einen Blick auf die Weiterentwicklung der Ausbildungslandschaft in Obe
 rösterreich werfen möchten.
GEO:48.161559775087476;14.026988096884638
LAST-MODIFIED;VALUE=DATE-TIME:20260323T090453Z
LOCATION;ALTREP="https://afo.at/lib/adressbuch/architektur-bauingenieurwes
 en-der-fh-ooe-campus-wels":Architektur + Bauingenieurwesen der FH OÖ Camp
 us Wels\, Roseggerstraße 26\, 4600 Wels\, Österreich
URL:https://afo.at/programm/architekturtage-1/at26/open-studio-fh-ooe-camp
 us-wels
END:VEVENT
BEGIN:VTIMEZONE
TZID:Europe/Vienna
X-LIC-LOCATION:Europe/Vienna
BEGIN:DAYLIGHT
DTSTART;VALUE=DATE-TIME:20260329T030000
TZNAME:CEST
TZOFFSETFROM:+0100
TZOFFSETTO:+0200
END:DAYLIGHT
END:VTIMEZONE
END:VCALENDAR
