BEGIN:VCALENDAR
VERSION:2.0
PRODID:-//Plone.org//NONSGML plone.app.event//EN
X-WR-TIMEZONE:Europe/Vienna
BEGIN:VEVENT
SUMMARY:Ziviltechniker:innen auf dem Freistädter Genussmarkt
DTSTART;TZID=Europe/Vienna;VALUE=DATE-TIME:20260529T140000
DTEND;TZID=Europe/Vienna;VALUE=DATE-TIME:20260529T180000
DTSTAMP;VALUE=DATE-TIME:20260424T115053Z
UID:bfe40ab88f3046cdbb7b70a5033dc8be@aaf-live-raw.web.kup.tirol
CATEGORIES:AT26
CREATED;VALUE=DATE-TIME:20260226T161112Z
DESCRIPTION:Ziviltechniker:innen-Büros aus Freistadt und Umgebung stellen
  sich und Ihre Arbeit auf dem traditionellen „Frischemarkt“ am Freist
 ädter Hauptplatz vor.
GEO:48.51149238251356;14.504687482208723
LAST-MODIFIED;VALUE=DATE-TIME:20260310T094531Z
LOCATION;ALTREP="https://afo.at/lib/adressbuch/hauptplatz-freistadt":Haupt
 platz Freistadt\, Hauptplatz 1\, 4240 Freistadt\, Österreich
URL:https://afo.at/programm/architekturtage-1/at26/treffpunkt-markt
END:VEVENT
BEGIN:VTIMEZONE
TZID:Europe/Vienna
X-LIC-LOCATION:Europe/Vienna
BEGIN:DAYLIGHT
DTSTART;VALUE=DATE-TIME:20260329T030000
TZNAME:CEST
TZOFFSETFROM:+0100
TZOFFSETTO:+0200
END:DAYLIGHT
END:VTIMEZONE
END:VCALENDAR
