BEGIN:VCALENDAR
VERSION:2.0
PRODID:-//Plone.org//NONSGML plone.app.event//EN
X-WR-TIMEZONE:Europe/Vienna
BEGIN:VEVENT
SUMMARY:Architektur vor Ort 223
DTSTART;TZID=Europe/Vienna;VALUE=DATE-TIME:20260424T170000
DTSTAMP;VALUE=DATE-TIME:20260422T185753Z
UID:011980b8870e4ad39f43f16c7fb2815c@aaf-live-raw.web.kup.tirol
CONTACT:vai Vorarlberger Architektur Institut\, info@v-a-i.at\, http://www
 .v-a-i.at
CREATED;VALUE=DATE-TIME:20260129T064112Z
LAST-MODIFIED;VALUE=DATE-TIME:20260310T102117Z
LOCATION:Treffpunkt:\nBahnhofstraße 15\nDornbirn
URL:https://afo.at/vai/veranstaltungen/architektur-vor-ort/architektur-vor
 -ort-223
END:VEVENT
BEGIN:VTIMEZONE
TZID:Europe/Vienna
X-LIC-LOCATION:Europe/Vienna
BEGIN:DAYLIGHT
DTSTART;VALUE=DATE-TIME:20260329T030000
TZNAME:CEST
TZOFFSETFROM:+0100
TZOFFSETTO:+0200
END:DAYLIGHT
END:VTIMEZONE
END:VCALENDAR
