BEGIN:VCALENDAR
VERSION:2.0
PRODID:-//Plone.org//NONSGML plone.app.event//EN
X-WR-TIMEZONE:Europe/Vienna
BEGIN:VEVENT
SUMMARY:Baustellenführung bei der ÖBB-Haltestelle Feldkirch-Tosters
DTSTART;TZID=Europe/Vienna;VALUE=DATE-TIME:20260530T141500
DTSTAMP;VALUE=DATE-TIME:20260422T223801Z
UID:42c6b36671544469ac3f1a51e8fb64eb@aaf-live-raw.web.kup.tirol
CATEGORIES:AT26
CREATED;VALUE=DATE-TIME:20260318T144245Z
GEO:47.2336038259406;9.578562850060337
LAST-MODIFIED;VALUE=DATE-TIME:20260320T114855Z
LOCATION;ALTREP="https://afo.at/vai/lib/adressbuch/hohle-gasse":Hohle Gass
 e\, 6800 Feldkirch\, Österreich
URL:https://afo.at/vai/veranstaltungen/architekturtage/architekturtage-202
 6/bahnbau-im-betrieb-baustellenfuehrung-bei-der-oebb-haltestelle-feldkirch
 -tosters
END:VEVENT
BEGIN:VTIMEZONE
TZID:Europe/Vienna
X-LIC-LOCATION:Europe/Vienna
BEGIN:DAYLIGHT
DTSTART;VALUE=DATE-TIME:20260329T030000
TZNAME:CEST
TZOFFSETFROM:+0100
TZOFFSETTO:+0200
END:DAYLIGHT
END:VTIMEZONE
END:VCALENDAR
