BEGIN:VCALENDAR
VERSION:2.0
PRODID:-//Plone.org//NONSGML plone.app.event//EN
X-WR-TIMEZONE:Europe/Vienna
BEGIN:VEVENT
SUMMARY:Interaktives Planspiel: Zwischen Croissant und öffentlichem Platz
DTSTART;TZID=Europe/Vienna:20260530T150000
DTEND;TZID=Europe/Vienna:20260530T160000
DTSTAMP:20260421T052300Z
UID:8ca2abf9c850444b9d30f40dc8ddd5cf@afo.at
CATEGORIES:AT26
CREATED:20260318T133521Z
GEO:47.24914512411478;9.587411590849566
LAST-MODIFIED:20260327T083849Z
LOCATION;ALTREP="https://afo.at/vai/lib/adressbuch/ehemalige-spinnerei-im-
 haemmerle-areal":Spinnerei im Hämmerle-Areal\, Hämmerlestraße 22\, 6800
  Feldkirch\, Austria
URL:https://afo.at/vai/veranstaltungen/architekturtage/architekturtage-202
 6/interaktives-planspiel-vom-croissant-zur-schwammstadt
END:VEVENT
BEGIN:VTIMEZONE
TZID:Europe/Vienna
X-LIC-LOCATION:Europe/Vienna
BEGIN:DAYLIGHT
DTSTART:20260329T030000
TZNAME:CEST
TZOFFSETFROM:+0100
TZOFFSETTO:+0200
END:DAYLIGHT
END:VTIMEZONE
END:VCALENDAR
