BEGIN:VCALENDAR
VERSION:2.0
PRODID:-//Plone.org//NONSGML plone.app.event//EN
X-WR-TIMEZONE:Europe/Vienna
BEGIN:VEVENT
SUMMARY:Kinderstadtführung: Wasser fließt und Strom ist da – wie Feldk
 irch funktioniert
DTSTART;TZID=Europe/Vienna:20260530T100000
DTSTAMP:20260420T043750Z
UID:469e72385c5044f88ef3e870098b26e4@afo.at
CATEGORIES:AT26
CREATED:20260318T144455Z
GEO:47.237985228062115;9.596827097493275
LAST-MODIFIED:20260320T133947Z
LOCATION;ALTREP="https://afo.at/vai/lib/adressbuch/palais-liechtenstein-1"
 :Palais Liechtenstein\, Schlossergasse 8\, 6800 Feldkirch\, Austria
URL:https://afo.at/vai/veranstaltungen/architekturtage/architekturtage-202
 6/schnitzeljagd-memory
END:VEVENT
BEGIN:VTIMEZONE
TZID:Europe/Vienna
X-LIC-LOCATION:Europe/Vienna
BEGIN:DAYLIGHT
DTSTART:20260329T030000
TZNAME:CEST
TZOFFSETFROM:+0100
TZOFFSETTO:+0200
END:DAYLIGHT
END:VTIMEZONE
END:VCALENDAR
