BEGIN:VCALENDAR
VERSION:2.0
PRODID:-//Plone.org//NONSGML plone.app.event//EN
X-WR-TIMEZONE:Europe/Vienna
BEGIN:VEVENT
SUMMARY:Was wäre\, wenn? Ein Abend voller Visionen und Potenziale
DTSTART;TZID=Europe/Vienna:20260529T190000
DTSTAMP:20260420T010736Z
UID:c1ee1b7ac7204d0bbe54b729e237f86d@afo.at
CATEGORIES:AT26
CREATED:20260318T133756Z
GEO:47.4863;9.6833
LAST-MODIFIED:20260327T084215Z
LOCATION;ALTREP="https://afo.at/vai/lib/adressbuch/data-room":data:room\, 
 Spinnereistraße 12\, 6971 Hard\, Austria
URL:https://afo.at/vai/veranstaltungen/architekturtage/architekturtage-202
 6/was-waere-wenn
END:VEVENT
BEGIN:VTIMEZONE
TZID:Europe/Vienna
X-LIC-LOCATION:Europe/Vienna
BEGIN:DAYLIGHT
DTSTART:20260329T030000
TZNAME:CEST
TZOFFSETFROM:+0100
TZOFFSETTO:+0200
END:DAYLIGHT
END:VTIMEZONE
END:VCALENDAR
