BEGIN:VCALENDAR
VERSION:2.0
PRODID:-//Plone.org//NONSGML plone.app.event//EN
X-WR-TIMEZONE:Europe/Vienna
BEGIN:VEVENT
SUMMARY:Energie Lounge 2026: Windkraft in Vorarlberg
DTSTART;TZID=Europe/Vienna:20260526T190000
DTSTAMP:20260420T031215Z
UID:123bfc51206d4ccfbf73196db008564c@afo.at
CREATED:20260203T150708Z
GEO:47.50445759999999;9.7466375
LAST-MODIFIED:20260203T151204Z
LOCATION;ALTREP="https://afo.at/vai/lib/adressbuch/vorarlberg-museum":vora
 rlberg museum\, Kornmarktplatz 1\, 6900 Bregenz\, Austria
URL:https://afo.at/vai/veranstaltungen/kalender/energie-lounge-2026-windkr
 aft-in-vorarlberg
END:VEVENT
BEGIN:VTIMEZONE
TZID:Europe/Vienna
X-LIC-LOCATION:Europe/Vienna
BEGIN:DAYLIGHT
DTSTART:20260329T030000
TZNAME:CEST
TZOFFSETFROM:+0100
TZOFFSETTO:+0200
END:DAYLIGHT
END:VTIMEZONE
END:VCALENDAR
